BEGIN:VCALENDAR
VERSION:2.0
PRODID:-//EmprenZona//ES
CALSCALE:GREGORIAN
METHOD:PUBLISH
BEGIN:VEVENT
UID:fair-10@emprenzona.com.ar
DTSTAMP:20260426T005958Z
DTSTART:20260712T120000
DTEND:20260712T200000
SUMMARY:Stout Fest
DESCRIPTION:Evento gratuito de cultura pop.\n\nLugar: StoutFest\, Bartolomé Mitre 1670
 \, CABA\n\nInstagram: @stoutfest\nVer más: https://www.emprenzona.com.ar/
 feria/stoutfest/stout-fest/2026-07-12
LOCATION:StoutFest\, Bartolomé Mitre 1670\, CABA
URL:https://www.emprenzona.com.ar/feria/stoutfest/stout-fest/2026-07-12
END:VEVENT
END:VCALENDAR
