BEGIN:VCALENDAR
VERSION:2.0
PRODID:-//EmprenZona//ES
CALSCALE:GREGORIAN
METHOD:PUBLISH
BEGIN:VEVENT
UID:fair-69@emprenzona.com.ar
DTSTAMP:20260425T235159Z
DTSTART:20260510T120000
DTEND:20260510T200000
SUMMARY:Stout Fest
DESCRIPTION:Evento gratuito de cultura pop.\n\nLugar: SF TCG Sessions\, Solís 523\, CA
 BA\n\nInstagram: @stoutfest\nVer más: https://www.emprenzona.com.ar/feria
 /stoutfest/stout-fest/2026-05-10
LOCATION:SF TCG Sessions\, Solís 523\, CABA
URL:https://www.emprenzona.com.ar/feria/stoutfest/stout-fest/2026-05-10
END:VEVENT
END:VCALENDAR
