BEGIN:VCALENDAR
VERSION:2.0
PRODID:-//EmprenZona//ES
CALSCALE:GREGORIAN
METHOD:PUBLISH
BEGIN:VEVENT
UID:fair-42@emprenzona.com.ar
DTSTAMP:20260425T235915Z
DTSTART:20260424T140000
DTEND:20260426T220000
SUMMARY:Paseo ArteSana
DESCRIPTION:Feria itinerante de Paseo ArteSana con foodtrucks\, artesanos\, emprendedor
 es\, shows en vivo\, juegos y maquillaje artístico.\n\nLugar: Plaza Maria
 no Moreno - H. Yrigoyen 6300\, Remedios de Escalada\n\nInstagram: @paseoar
 tesana\nVer más: https://www.emprenzona.com.ar/feria/paseoartesana/paseo-
 artesana/2026-04-24
LOCATION:Plaza Mariano Moreno - H. Yrigoyen 6300\, Remedios de Escalada
URL:https://www.emprenzona.com.ar/feria/paseoartesana/paseo-artesana/2026-04-24
END:VEVENT
END:VCALENDAR
