BEGIN:VCALENDAR
VERSION:2.0
PRODID:-//EmprenZona//ES
CALSCALE:GREGORIAN
METHOD:PUBLISH
BEGIN:VEVENT
UID:fair-68@emprenzona.com.ar
DTSTAMP:20260425T235408Z
DTSTART:20260521T120000
DTEND:20260521T200000
SUMMARY:Lumina Feria
DESCRIPTION:Feria de emprendedores organizada por Lumina Feria.\n\nLugar: Mané Café\,
  Acevedo 160\, Lomas de Zamora\n\nInstagram: @lumina.feria\nVer más: http
 s://www.emprenzona.com.ar/feria/lumina.feria/lumina-feria/2026-05-21
LOCATION:Mané Café\, Acevedo 160\, Lomas de Zamora
URL:https://www.emprenzona.com.ar/feria/lumina.feria/lumina-feria/2026-05-21
END:VEVENT
END:VCALENDAR
