BEGIN:VCALENDAR
VERSION:2.0
PRODID:-//EmprenZona//ES
CALSCALE:GREGORIAN
METHOD:PUBLISH
BEGIN:VEVENT
UID:fair-41@emprenzona.com.ar
DTSTAMP:20260426T010216Z
DTSTART:20260424T120000
DTEND:20260426T220000
SUMMARY:Ke Feria!
DESCRIPTION:Feria itinerante con food & beer trucks\, shows\, emprendedores y juegos in
 fantiles.\n\nLugar: Plaza Alem\, Lanús Este\n\nInstagram: @ke.feriaok\nVe
 r más: https://www.emprenzona.com.ar/feria/ke.feriaok/ke-feria/2026-04-24
LOCATION:Plaza Alem\, Lanús Este
URL:https://www.emprenzona.com.ar/feria/ke.feriaok/ke-feria/2026-04-24
END:VEVENT
END:VCALENDAR
