BEGIN:VCALENDAR
VERSION:2.0
PRODID:-//EmprenZona//ES
CALSCALE:GREGORIAN
METHOD:PUBLISH
BEGIN:VEVENT
UID:fair-28@emprenzona.com.ar
DTSTAMP:20260426T000958Z
DTSTART:20260426T120000
DTEND:20260426T200000
SUMMARY:FUCKXNG FERIA
DESCRIPTION:Feria con emprendedores y propuestas gastronómicas.\n\nLugar: Honduras 522
 1\, Palermo\, Ciudad Autónoma de Buenos Aires\n\nInstagram: @fuckxngferia
 \nVer más: https://www.emprenzona.com.ar/feria/fuckxngferia/fuckxng-feria
 /2026-04-26
LOCATION:Honduras 5221\, Palermo\, Ciudad Autónoma de Buenos Aires
URL:https://www.emprenzona.com.ar/feria/fuckxngferia/fuckxng-feria/2026-04-26
END:VEVENT
END:VCALENDAR
