BEGIN:VCALENDAR
VERSION:2.0
PRODID:-//EmprenZona//ES
CALSCALE:GREGORIAN
METHOD:PUBLISH
BEGIN:VEVENT
UID:fair-54@emprenzona.com.ar
DTSTAMP:20260426T000958Z
DTSTART:20260425T120000
DTEND:20260426T200000
SUMMARY:Artesanos y Emprendedores de Parque Chacabuco
DESCRIPTION:Feria de artesanos y emprendedores sobre Asamblea entre Puan y Miro.\n\nLug
 ar: Asamblea entre Puan y Miro\, Parque Chacabuco\, CABA\n\nInstagram: @fe
 riaparquechacabuco\nVer más: https://www.emprenzona.com.ar/feria/feriapar
 quechacabuco/artesanos-y-emprendedores-de-parque-chacabuco/2026-04-25
LOCATION:Asamblea entre Puan y Miro\, Parque Chacabuco\, CABA
URL:https://www.emprenzona.com.ar/feria/feriaparquechacabuco/artesanos-y-emprendedores-de-parque-chacabuco/2026-04-25
END:VEVENT
END:VCALENDAR
