BEGIN:VCALENDAR
VERSION:2.0
PRODID:-//EmprenZona//ES
CALSCALE:GREGORIAN
METHOD:PUBLISH
BEGIN:VEVENT
UID:fair-56@emprenzona.com.ar
DTSTAMP:20260426T000852Z
DTSTART:20260426T120000
DTEND:20260426T200000
SUMMARY:EXPOLUZ
DESCRIPTION:Expo para emprendimientos y marcas locales.\n\nLugar: Casa Quilmes\, Av. 53
  e/ 5 y 6\, La Plata\n\nInstagram: @expo.luz.lp\nVer más: https://www.emp
 renzona.com.ar/feria/expo.luz.lp/expoluz/2026-04-26
LOCATION:Casa Quilmes\, Av. 53 e/ 5 y 6\, La Plata
URL:https://www.emprenzona.com.ar/feria/expo.luz.lp/expoluz/2026-04-26
END:VEVENT
END:VCALENDAR
