BEGIN:VCALENDAR
VERSION:2.0
PRODID:-//EmprenZona//ES
CALSCALE:GREGORIAN
METHOD:PUBLISH
BEGIN:VEVENT
UID:fair-58@emprenzona.com.ar
DTSTAMP:20260426T000812Z
DTSTART:20260425T120000
DTEND:20260426T200000
SUMMARY:Mercado Creativo
DESCRIPTION:Mercado creativo de moda\, arte y diseño.\n\nLugar: Oveja Negra\, Palermo\
 , CABA\n\nInstagram: @creativomercado\nVer más: https://www.emprenzona.co
 m.ar/feria/creativomercado/mercado-creativo/2026-04-25
LOCATION:Oveja Negra\, Palermo\, CABA
URL:https://www.emprenzona.com.ar/feria/creativomercado/mercado-creativo/2026-04-25
END:VEVENT
END:VCALENDAR
