BEGIN:VCALENDAR
VERSION:2.0
PRODID:-//EmprenZona//ES
CALSCALE:GREGORIAN
METHOD:PUBLISH
BEGIN:VEVENT
UID:fair-40@emprenzona.com.ar
DTSTAMP:20260426T000852Z
DTSTART:20260509T120000
DTEND:20260510T200000
SUMMARY:Avellaneda ExpoFan
DESCRIPTION:ExpoFan de Avellaneda con propuestas de cultura pop\, stands y comunidad.\n
 \nEdición: Stage 1 de la temporada 2026.\n\nLugar: La Estación - Güemes
  700\, Avellaneda\n\nInstagram: @avellanedaexpofan\nVer más: https://www.
 emprenzona.com.ar/feria/avellanedaexpofan/avellaneda-expofan/2026-05-09
LOCATION:La Estación - Güemes 700\, Avellaneda
URL:https://www.emprenzona.com.ar/feria/avellanedaexpofan/avellaneda-expofan/2026-05-09
END:VEVENT
END:VCALENDAR
