BEGIN:VCALENDAR
VERSION:2.0
PRODID:-//EmprenZona//ES
CALSCALE:GREGORIAN
METHOD:PUBLISH
BEGIN:VEVENT
UID:fair-59@emprenzona.com.ar
DTSTAMP:20260426T001003Z
DTSTART:20260425T120000
DTEND:20260426T200000
SUMMARY:Feria de Artesanías Plaza Francia
DESCRIPTION:Feria de artesanías de fin de semana en Plaza Francia.\n\nLugar: Avenida L
 ibertador y Av. Pueyrredón\, Recoleta\, CABA\n\nInstagram: @artesanosplaz
 afrancia\nVer más: https://www.emprenzona.com.ar/feria/artesanosplazafran
 cia/feria-de-artesanias-plaza-francia/2026-04-25
LOCATION:Avenida Libertador y Av. Pueyrredón\, Recoleta\, CABA
URL:https://www.emprenzona.com.ar/feria/artesanosplazafrancia/feria-de-artesanias-plaza-francia/2026-04-25
END:VEVENT
END:VCALENDAR
