BEGIN:VCALENDAR
VERSION:2.0
PRODID:-//EmprenZona//ES
CALSCALE:GREGORIAN
METHOD:PUBLISH
BEGIN:VEVENT
UID:fair-42@emprenzona.com.ar
DTSTAMP:20260421T082320Z
DTSTART:20260424T140000
DTEND:20260426T220000
SUMMARY:Paseo ArteSana - Plaza Mariano Moreno
DESCRIPTION:Viernes 24\, sábado 25 y domingo 26 de Abril\, 14 a 22hs. Foodtrucks\, art
 esanos\, emprendedores\, shows en vivo\, juegos y maquillaje artístico. 2
 4 horas totales de feria.\nVer más: https://www.emprenzona.com.ar/evento/
 paseo-artesana-plaza-mariano-moreno-abril-2026
LOCATION:Plaza Mariano Moreno - H. Yrigoyen 6300\, Remedios de Escalada
URL:https://www.emprenzona.com.ar/evento/paseo-artesana-plaza-mariano-moreno-abril-2026
END:VEVENT
END:VCALENDAR
