BEGIN:VCALENDAR
VERSION:2.0
PRODID:-//EmprenZona//ES
CALSCALE:GREGORIAN
METHOD:PUBLISH
BEGIN:VEVENT
UID:fair-6@emprenzona.com.ar
DTSTAMP:20260425T185419Z
DTSTART:20260426T140000
DTEND:20260426T190000
SUMMARY:Feria Las amigas bar Valhöll
DESCRIPTION:Feria de emprendedores . Instagram: @feria.lasamigas36 @valhollcraftbeer\nV
 er más: https://www.emprenzona.com.ar/evento/feria-las-amigas-bar-valholl
LOCATION:Valhöll Craft Beer\, Del Valle Iberlucea 2928\, Lanús
URL:https://www.emprenzona.com.ar/evento/feria-las-amigas-bar-valholl
END:VEVENT
END:VCALENDAR
