BEGIN:VCALENDAR
VERSION:2.0
PRODID:-//EmprenZona//ES
CALSCALE:GREGORIAN
METHOD:PUBLISH
BEGIN:VEVENT
UID:fair-58@emprenzona.com.ar
DTSTAMP:20260423T171849Z
DTSTART:20260425T120000
DTEND:20260426T200000
SUMMARY:Mercado Creativo - Oveja Negra
DESCRIPTION:Mercado creativo de moda\, arte y diseno en Palermo.\n\nInstagram: @creativ
 omercado\nVer más: https://www.emprenzona.com.ar/evento/58
LOCATION:Oveja Negra\, Palermo\, CABA
URL:https://www.emprenzona.com.ar/evento/58
END:VEVENT
END:VCALENDAR
