BEGIN:VCALENDAR
VERSION:2.0
PRODID:-//EmprenZona//ES
CALSCALE:GREGORIAN
METHOD:PUBLISH
BEGIN:VEVENT
UID:fair-57@emprenzona.com.ar
DTSTAMP:20260423T171814Z
DTSTART:20260426T120000
DTEND:20260426T200000
SUMMARY:FRIKI POP
DESCRIPTION:Evento de cultura pop con entrada gratuita.\n\nInstagram: @frikipop.arg\nVe
 r más: https://www.emprenzona.com.ar/evento/57
LOCATION:Buenos Aires (sede a confirmar)
URL:https://www.emprenzona.com.ar/evento/57
END:VEVENT
END:VCALENDAR
