BEGIN:VCALENDAR
VERSION:2.0
PRODID:-//EmprenZona//ES
CALSCALE:GREGORIAN
METHOD:PUBLISH
BEGIN:VEVENT
UID:fair-55@emprenzona.com.ar
DTSTAMP:20260423T173903Z
DTSTART:20260424T120000
DTEND:20260425T200000
SUMMARY:Artesanos de San Fernando - 24 y 25 de abril
DESCRIPTION:Feria de artesanos en Plaza Mitre.\n\nInstagram: @feriasanfernando\nVer má
 s: https://www.emprenzona.com.ar/evento/55
LOCATION:Plaza Mitre\, Constitucion al 900\, San Fernando
URL:https://www.emprenzona.com.ar/evento/55
END:VEVENT
END:VCALENDAR
