BEGIN:VCALENDAR
VERSION:2.0
PRODID:-//EmprenZona//ES
CALSCALE:GREGORIAN
METHOD:PUBLISH
BEGIN:VEVENT
UID:fair-54@emprenzona.com.ar
DTSTAMP:20260423T171814Z
DTSTART:20260425T120000
DTEND:20260426T200000
SUMMARY:Artesanos y Emprendedores de Parque Chacabuco - Fin de semana 25 y 26 de ab
 ril
DESCRIPTION:Feria de artesanos y emprendedores sobre Asamblea entre Puan y Miro.\n\nIns
 tagram: @feriaparquechacabuco\nVer más: https://www.emprenzona.com.ar/eve
 nto/54
LOCATION:Asamblea entre Puan y Miro\, Parque Chacabuco\, CABA
URL:https://www.emprenzona.com.ar/evento/54
END:VEVENT
END:VCALENDAR
