BEGIN:VCALENDAR
VERSION:2.0
PRODID:-//EmprenZona//ES
CALSCALE:GREGORIAN
METHOD:PUBLISH
BEGIN:VEVENT
UID:fair-53@emprenzona.com.ar
DTSTAMP:20260423T172745Z
DTSTART:20260425T120000
DTEND:20260425T200000
SUMMARY:Feria Las Magas
DESCRIPTION:Feria de emprendedores\, artesanos y tarot con fecha publicada en Olivos.\n
 \nInstagram: @ferialasmagas\nVer más: https://www.emprenzona.com.ar/event
 o/53
LOCATION:Ibice Olivos\, Olivos\, Vicente Lopez
URL:https://www.emprenzona.com.ar/evento/53
END:VEVENT
END:VCALENDAR
