BEGIN:VCALENDAR
VERSION:2.0
PRODID:-//EmprenZona//ES
CALSCALE:GREGORIAN
METHOD:PUBLISH
BEGIN:VEVENT
UID:fair-52@emprenzona.com.ar
DTSTAMP:20260423T001129Z
DTSTART:20260418T160000
DTEND:20260418T210000
SUMMARY:Lumina Feria - Mané Café Lomas - 18 abril
DESCRIPTION:Encuentro de marcas y público en espacio gastronómico.\n\nOrganiza: Lumin
 a Feria\nInstagram: @lumina.feria\nVer más: https://www.emprenzona.com.ar
 /evento/52
LOCATION:Mané Café\, Acevedo 160\, Lomas de Zamora
URL:https://www.emprenzona.com.ar/evento/52
END:VEVENT
END:VCALENDAR
