BEGIN:VCALENDAR
VERSION:2.0
PRODID:-//EmprenZona//ES
CALSCALE:GREGORIAN
METHOD:PUBLISH
BEGIN:VEVENT
UID:fair-43@emprenzona.com.ar
DTSTAMP:20260422T190125Z
DTSTART:20260425T120000
DTEND:20260425T200000
SUMMARY:Lumina Feria - Valhöll Craft Beer - 25 abril 
DESCRIPTION:Feria de emprendedores en espacio cervecero.\n\nInstagram: @lumina.feria\nV
 er más: https://www.emprenzona.com.ar/evento/43
LOCATION:Valhöll Craft Beer\, Lanús
URL:https://www.emprenzona.com.ar/evento/43
END:VEVENT
END:VCALENDAR
