BEGIN:VCALENDAR
VERSION:2.0
PRODID:-//EmprenZona//ES
CALSCALE:GREGORIAN
METHOD:PUBLISH
BEGIN:VEVENT
UID:fair-40@emprenzona.com.ar
DTSTAMP:20260423T172745Z
DTSTART:20260509T120000
DTEND:20260510T200000
SUMMARY:Avellaneda ExpoFan - Stage 1 2026
DESCRIPTION:Stage 1 de la temporada 2026 en La Estacion\, Avellaneda.\n\nInstagram: @av
 ellanedaexpofan\nVer más: https://www.emprenzona.com.ar/evento/40
LOCATION:La Estacion - Guemes 700\, Avellaneda
URL:https://www.emprenzona.com.ar/evento/40
END:VEVENT
END:VCALENDAR
